BEGIN:VCALENDAR
VERSION:2.0
PRODID:-//VolunteerStJohns//CommunityEvents//EN
CALSCALE:GREGORIAN
BEGIN:VEVENT
SUMMARY:Ashwood Gardens Kitchen Party
DTSTAMP:20260423T114032Z
DTSTART:20251221T213000Z
DTEND:20251221T223000Z
LOCATION:The Newfoundland Embassy
DESCRIPTION:Ashwood Gardens Kitchen Party\n6:00 pm at The Newfoundland Emba
 ssy Pub\n\n		\n		\n		Read more
URL:https://volunteerstjohns.ca/events/ashwood-gardens-kitchen-party-2/
UID:event-173@volunteerstjohns.ca
END:VEVENT
END:VCALENDAR