BEGIN:VCALENDAR
VERSION:2.0
PRODID:-//VolunteerStJohns//CommunityEvents//EN
CALSCALE:GREGORIAN
BEGIN:VEVENT
SUMMARY:Good Tidings presented by Sable Building & Design
DTSTAMP:20260422T111138Z
DTSTART:20251221T213000Z
DTEND:20251222T023000Z
LOCATION:The Bella Vista
DESCRIPTION:A holiday fundraising concert for the Katie Sullivan Instrument
  Library at The Bella Vista. Featuring The Tide Quartet and local guests pe
 rforming jazz and holiday tunes. The night includes a raffle and 50/50 draw
  to support free instruments for students.
URL:https://volunteerstjohns.ca/events/good-tidings-presented-by-sable-buil
 ding-design/
UID:event-69@volunteerstjohns.ca
END:VEVENT
END:VCALENDAR