BEGIN:VCALENDAR
VERSION:2.0
PRODID:-//VolunteerStJohns//CommunityEvents//EN
CALSCALE:GREGORIAN
BEGIN:VEVENT
SUMMARY:Merry Makers Market at Quidi Vidi Artisan Studios
DTSTAMP:20260423T114156Z
DTSTART:20251206T133000Z
DTEND:20251206T193000Z
LOCATION:14 Maple View Rd.\, St. John's
DESCRIPTION:The 6th annual holiday market at Quidi Vidi Village Artisan Stu
 dios. Shop for high-quality\, handcrafted goods from resident artisans and 
 guest vendors\, including textiles\, ceramics\, and jewelry. Admission is f
 ree.
URL:https://volunteerstjohns.ca/events/merry-makers-market-at-quidi-vidi-ar
 tisan-studios/
UID:event-96@volunteerstjohns.ca
END:VEVENT
END:VCALENDAR