BEGIN:VCALENDAR
VERSION:2.0
PRODID:-//VolunteerStJohns//CommunityEvents//EN
CALSCALE:GREGORIAN
BEGIN:VEVENT
SUMMARY:Dave Whitty
DTSTAMP:20260423T113418Z
DTSTART:20260127T223000Z
DTEND:20260127T233000Z
LOCATION:The Newfoundland Embassy
DESCRIPTION:Dave Whitty\n7:00 pm at The Newfoundland Embassy Pub\n\n		\n		\
 n		Read more
URL:https://volunteerstjohns.ca/fr/evenements/dave-whitty-8/
UID:event-192@volunteerstjohns.ca
END:VEVENT
END:VCALENDAR