BEGIN:VCALENDAR
VERSION:2.0
PRODID:-//VolunteerStJohns//CommunityEvents//EN
CALSCALE:GREGORIAN
BEGIN:VEVENT
SUMMARY:Multicultural Christmas Community Fair
DTSTAMP:20260423T113703Z
DTSTART:20251219T203000Z
DTEND:20251220T003000Z
LOCATION:St. John's Farmers' Market
DESCRIPTION:A holiday market at the St. John's Farmers' Market featuring ov
 er 40 vendors from diverse backgrounds. Shop for arts\, crafts\, and appare
 l\, and try food from Nigeria\, Pakistan\, India\, and more.
URL:https://volunteerstjohns.ca/fr/evenements/multicultural-christmas-commu
 nity-fair/
UID:event-88@volunteerstjohns.ca
END:VEVENT
END:VCALENDAR