BEGIN:VCALENDAR
VERSION:2.0
PRODID:-//VolunteerStJohns//CommunityEvents//EN
CALSCALE:GREGORIAN
BEGIN:VEVENT
SUMMARY:What's Up in the Night Sky?
DTSTAMP:20260423T114130Z
DTSTART:20251207T163000Z
DTEND:20251207T193000Z
LOCATION:Johnson Geo Centre
DESCRIPTION:A guided tour of the night sky inside the portable StarLab plan
 etarium. Led by amateur astronomer Garry Dymond\, you'll learn to spot cons
 tellations\, stars\, and planets visible from the Northeast Avalon. Best fo
 r ages 5+. Admission is $5.
URL:https://volunteerstjohns.ca/fr/evenements/whats-up-in-the-night-sky/
UID:event-74@volunteerstjohns.ca
END:VEVENT
END:VCALENDAR